BEGIN:VCALENDAR
VERSION:2.0
PRODID:-//Afaceri Poligrafice - ECPv6.15.13//NONSGML v1.0//EN
CALSCALE:GREGORIAN
METHOD:PUBLISH
X-WR-CALNAME:Afaceri Poligrafice
X-ORIGINAL-URL:https://afaceri-poligrafice.ro
X-WR-CALDESC:Evenimente pentru Afaceri Poligrafice
REFRESH-INTERVAL;VALUE=DURATION:PT1H
X-Robots-Tag:noindex
X-PUBLISHED-TTL:PT1H
BEGIN:VTIMEZONE
TZID:Europe/Bucharest
BEGIN:DAYLIGHT
TZOFFSETFROM:+0200
TZOFFSETTO:+0300
TZNAME:EEST
DTSTART:20230326T010000
END:DAYLIGHT
BEGIN:STANDARD
TZOFFSETFROM:+0300
TZOFFSETTO:+0200
TZNAME:EET
DTSTART:20231029T010000
END:STANDARD
BEGIN:DAYLIGHT
TZOFFSETFROM:+0200
TZOFFSETTO:+0300
TZNAME:EEST
DTSTART:20240331T010000
END:DAYLIGHT
BEGIN:STANDARD
TZOFFSETFROM:+0300
TZOFFSETTO:+0200
TZNAME:EET
DTSTART:20241027T010000
END:STANDARD
BEGIN:DAYLIGHT
TZOFFSETFROM:+0200
TZOFFSETTO:+0300
TZNAME:EEST
DTSTART:20250330T010000
END:DAYLIGHT
BEGIN:STANDARD
TZOFFSETFROM:+0300
TZOFFSETTO:+0200
TZNAME:EET
DTSTART:20251026T010000
END:STANDARD
BEGIN:DAYLIGHT
TZOFFSETFROM:+0200
TZOFFSETTO:+0300
TZNAME:EEST
DTSTART:20260329T010000
END:DAYLIGHT
BEGIN:STANDARD
TZOFFSETFROM:+0300
TZOFFSETTO:+0200
TZNAME:EET
DTSTART:20261025T010000
END:STANDARD
BEGIN:DAYLIGHT
TZOFFSETFROM:+0200
TZOFFSETTO:+0300
TZNAME:EEST
DTSTART:20270328T010000
END:DAYLIGHT
BEGIN:STANDARD
TZOFFSETFROM:+0300
TZOFFSETTO:+0200
TZNAME:EET
DTSTART:20271031T010000
END:STANDARD
END:VTIMEZONE
BEGIN:VEVENT
DTSTART;VALUE=DATE:20240821
DTEND;VALUE=DATE:20240822
DTSTAMP:20260425T135712
CREATED:20231003T095834Z
LAST-MODIFIED:20231003T095834Z
UID:72143-1724198400-1724284799@afaceri-poligrafice.ro
SUMMARY:AFP 300 – Data limita de primire material publicitar destinat editiei tiparite
DESCRIPTION:
URL:https://afaceri-poligrafice.ro/eveniment/afp-300-data-limita-de-primire-material-publicitar-destinat-editiei-tiparite/
CATEGORIES:Calendarul Editorial
END:VEVENT
BEGIN:VEVENT
DTSTART;VALUE=DATE:20240830
DTEND;VALUE=DATE:20240831
DTSTAMP:20260425T135712
CREATED:20231003T095902Z
LAST-MODIFIED:20231003T095902Z
UID:72145-1724976000-1725062399@afaceri-poligrafice.ro
SUMMARY:AFP 300 – Data publicarii revistei
DESCRIPTION:
URL:https://afaceri-poligrafice.ro/eveniment/afp-300-data-publicarii-revistei/
CATEGORIES:Calendarul Editorial
END:VEVENT
BEGIN:VEVENT
DTSTART;VALUE=DATE:20240910
DTEND;VALUE=DATE:20240911
DTSTAMP:20260425T135712
CREATED:20231003T095935Z
LAST-MODIFIED:20231003T095935Z
UID:72147-1725926400-1726012799@afaceri-poligrafice.ro
SUMMARY:AFP 301 – Data limita de primire material publicitar destinat editiei tiparite
DESCRIPTION:
URL:https://afaceri-poligrafice.ro/eveniment/afp-301-data-limita-de-primire-material-publicitar-destinat-editiei-tiparite/
CATEGORIES:Calendarul Editorial
END:VEVENT
BEGIN:VEVENT
DTSTART;VALUE=DATE:20240920
DTEND;VALUE=DATE:20240921
DTSTAMP:20260425T135712
CREATED:20231003T100056Z
LAST-MODIFIED:20231003T100056Z
UID:72149-1726790400-1726876799@afaceri-poligrafice.ro
SUMMARY:AFP 301 – Data publicarii revistei
DESCRIPTION:
URL:https://afaceri-poligrafice.ro/eveniment/afp-301-data-publicarii-revistei/
CATEGORIES:Calendarul Editorial
END:VEVENT
BEGIN:VEVENT
DTSTART;VALUE=DATE:20241015
DTEND;VALUE=DATE:20241016
DTSTAMP:20260425T135712
CREATED:20231003T100127Z
LAST-MODIFIED:20231003T100127Z
UID:72151-1728950400-1729036799@afaceri-poligrafice.ro
SUMMARY:AFP 302 – Data limita de primire material publicitar destinat editiei tiparite
DESCRIPTION:
URL:https://afaceri-poligrafice.ro/eveniment/afp-302-data-limita-de-primire-material-publicitar-destinat-editiei-tiparite/
CATEGORIES:Calendarul Editorial
END:VEVENT
BEGIN:VEVENT
DTSTART;VALUE=DATE:20241025
DTEND;VALUE=DATE:20241026
DTSTAMP:20260425T135712
CREATED:20231003T100157Z
LAST-MODIFIED:20231003T100157Z
UID:72153-1729814400-1729900799@afaceri-poligrafice.ro
SUMMARY:AFP 302 – Data publicarii revistei
DESCRIPTION:
URL:https://afaceri-poligrafice.ro/eveniment/afp-302-data-publicarii-revistei/
CATEGORIES:Calendarul Editorial
END:VEVENT
BEGIN:VEVENT
DTSTART;VALUE=DATE:20241121
DTEND;VALUE=DATE:20241122
DTSTAMP:20260425T135712
CREATED:20231003T100232Z
LAST-MODIFIED:20231003T100232Z
UID:72155-1732147200-1732233599@afaceri-poligrafice.ro
SUMMARY:AFP 303 – Data limita de primire material publicitar destinat editiei tiparite
DESCRIPTION:
URL:https://afaceri-poligrafice.ro/eveniment/afp-303-data-limita-de-primire-material-publicitar-destinat-editiei-tiparite/
CATEGORIES:Calendarul Editorial
END:VEVENT
BEGIN:VEVENT
DTSTART;VALUE=DATE:20241129
DTEND;VALUE=DATE:20241130
DTSTAMP:20260425T135712
CREATED:20231003T100300Z
LAST-MODIFIED:20231003T100300Z
UID:72157-1732838400-1732924799@afaceri-poligrafice.ro
SUMMARY:AFP 303 – Data publicarii revistei
DESCRIPTION:
URL:https://afaceri-poligrafice.ro/eveniment/afp-303-data-publicarii-revistei/
CATEGORIES:Calendarul Editorial
END:VEVENT
BEGIN:VEVENT
DTSTART;VALUE=DATE:20250204
DTEND;VALUE=DATE:20250205
DTSTAMP:20260425T135712
CREATED:20241022T135521Z
LAST-MODIFIED:20241022T135521Z
UID:96363-1738627200-1738713599@afaceri-poligrafice.ro
SUMMARY:AFP 304 – Data limita de primire material publicitar destinat editiei tiparite
DESCRIPTION:
URL:https://afaceri-poligrafice.ro/eveniment/afp-304-data-limita-de-primire-material-publicitar-destinat-editiei-tiparite/
CATEGORIES:Calendarul Editorial
END:VEVENT
BEGIN:VEVENT
DTSTART;VALUE=DATE:20250214
DTEND;VALUE=DATE:20250215
DTSTAMP:20260425T135712
CREATED:20241022T135522Z
LAST-MODIFIED:20241022T135522Z
UID:96391-1739491200-1739577599@afaceri-poligrafice.ro
SUMMARY:AFP 304 – Data publicarii revistei
DESCRIPTION:
URL:https://afaceri-poligrafice.ro/eveniment/afp-304-data-publicarii-revistei/
CATEGORIES:Calendarul Editorial
END:VEVENT
BEGIN:VEVENT
DTSTART;VALUE=DATE:20250311
DTEND;VALUE=DATE:20250312
DTSTAMP:20260425T135712
CREATED:20241022T135522Z
LAST-MODIFIED:20241022T135522Z
UID:96365-1741651200-1741737599@afaceri-poligrafice.ro
SUMMARY:AFP 305 – Data limita de primire material publicitar destinat editiei tiparite
DESCRIPTION:
URL:https://afaceri-poligrafice.ro/eveniment/afp-305-data-limita-de-primire-material-publicitar-destinat-editiei-tiparite/
CATEGORIES:Calendarul Editorial
END:VEVENT
BEGIN:VEVENT
DTSTART;VALUE=DATE:20250319
DTEND;VALUE=DATE:20250320
DTSTAMP:20260425T135712
CREATED:20241022T135522Z
LAST-MODIFIED:20241022T135522Z
UID:96394-1742342400-1742428799@afaceri-poligrafice.ro
SUMMARY:AFP 305 – Data publicarii revistei
DESCRIPTION:
URL:https://afaceri-poligrafice.ro/eveniment/afp-305-data-publicarii-revistei/
CATEGORIES:Calendarul Editorial
END:VEVENT
BEGIN:VEVENT
DTSTART;VALUE=DATE:20250415
DTEND;VALUE=DATE:20250416
DTSTAMP:20260425T135712
CREATED:20241022T135522Z
LAST-MODIFIED:20241022T135522Z
UID:96368-1744675200-1744761599@afaceri-poligrafice.ro
SUMMARY:AFP 306 – Data limita de primire material publicitar destinat editiei tiparite
DESCRIPTION:
URL:https://afaceri-poligrafice.ro/eveniment/afp-306-data-limita-de-primire-material-publicitar-destinat-editiei-tiparite/
CATEGORIES:Calendarul Editorial
END:VEVENT
BEGIN:VEVENT
DTSTART;VALUE=DATE:20250425
DTEND;VALUE=DATE:20250426
DTSTAMP:20260425T135712
CREATED:20241022T135522Z
LAST-MODIFIED:20241022T135522Z
UID:96397-1745539200-1745625599@afaceri-poligrafice.ro
SUMMARY:AFP 306 – Data publicarii revistei
DESCRIPTION:
URL:https://afaceri-poligrafice.ro/eveniment/afp-306-data-publicarii-revistei/
CATEGORIES:Calendarul Editorial
END:VEVENT
BEGIN:VEVENT
DTSTART;VALUE=DATE:20250521
DTEND;VALUE=DATE:20250522
DTSTAMP:20260425T135712
CREATED:20241022T135522Z
LAST-MODIFIED:20241022T135522Z
UID:96371-1747785600-1747871999@afaceri-poligrafice.ro
SUMMARY:AFP 307 – Data limita de primire material publicitar destinat editiei tiparite
DESCRIPTION:
URL:https://afaceri-poligrafice.ro/eveniment/afp-307-data-limita-de-primire-material-publicitar-destinat-editiei-tiparite/
CATEGORIES:Calendarul Editorial
END:VEVENT
BEGIN:VEVENT
DTSTART;VALUE=DATE:20250530
DTEND;VALUE=DATE:20250531
DTSTAMP:20260425T135712
CREATED:20241022T135522Z
LAST-MODIFIED:20241022T135522Z
UID:96400-1748563200-1748649599@afaceri-poligrafice.ro
SUMMARY:AFP 307 – Data publicarii revistei
DESCRIPTION:
URL:https://afaceri-poligrafice.ro/eveniment/afp-307-data-publicarii-revistei/
CATEGORIES:Calendarul Editorial
END:VEVENT
BEGIN:VEVENT
DTSTART;VALUE=DATE:20250619
DTEND;VALUE=DATE:20250620
DTSTAMP:20260425T135712
CREATED:20241022T135522Z
LAST-MODIFIED:20241022T135522Z
UID:96374-1750291200-1750377599@afaceri-poligrafice.ro
SUMMARY:AFP 308 – Data limita de primire material publicitar destinat editiei tiparite
DESCRIPTION:
URL:https://afaceri-poligrafice.ro/eveniment/afp-308-data-limita-de-primire-material-publicitar-destinat-editiei-tiparite/
CATEGORIES:Calendarul Editorial
END:VEVENT
BEGIN:VEVENT
DTSTART;VALUE=DATE:20250630
DTEND;VALUE=DATE:20250701
DTSTAMP:20260425T135712
CREATED:20241022T135523Z
LAST-MODIFIED:20241022T135523Z
UID:96403-1751241600-1751327999@afaceri-poligrafice.ro
SUMMARY:AFP 308 – Data publicarii revistei
DESCRIPTION:
URL:https://afaceri-poligrafice.ro/eveniment/afp-308-data-publicarii-revistei/
CATEGORIES:Calendarul Editorial
END:VEVENT
BEGIN:VEVENT
DTSTART;VALUE=DATE:20250820
DTEND;VALUE=DATE:20250821
DTSTAMP:20260425T135712
CREATED:20241022T135523Z
LAST-MODIFIED:20241022T135523Z
UID:96377-1755648000-1755734399@afaceri-poligrafice.ro
SUMMARY:AFP 309 – Data limita de primire material publicitar destinat editiei tiparite
DESCRIPTION:
URL:https://afaceri-poligrafice.ro/eveniment/afp-309-data-limita-de-primire-material-publicitar-destinat-editiei-tiparite/
CATEGORIES:Calendarul Editorial
END:VEVENT
BEGIN:VEVENT
DTSTART;VALUE=DATE:20250829
DTEND;VALUE=DATE:20250830
DTSTAMP:20260425T135712
CREATED:20241022T135523Z
LAST-MODIFIED:20241022T135523Z
UID:96406-1756425600-1756511999@afaceri-poligrafice.ro
SUMMARY:AFP 309 – Data publicarii revistei
DESCRIPTION:
URL:https://afaceri-poligrafice.ro/eveniment/afp-309-data-publicarii-revistei/
CATEGORIES:Calendarul Editorial
END:VEVENT
BEGIN:VEVENT
DTSTART;VALUE=DATE:20250917
DTEND;VALUE=DATE:20250918
DTSTAMP:20260425T135712
CREATED:20241022T135523Z
LAST-MODIFIED:20241022T135523Z
UID:96380-1758067200-1758153599@afaceri-poligrafice.ro
SUMMARY:AFP 310 – Data limita de primire material publicitar destinat editiei tiparite
DESCRIPTION:
URL:https://afaceri-poligrafice.ro/eveniment/afp-310-data-limita-de-primire-material-publicitar-destinat-editiei-tiparite/
CATEGORIES:Calendarul Editorial
END:VEVENT
BEGIN:VEVENT
DTSTART;VALUE=DATE:20250926
DTEND;VALUE=DATE:20250927
DTSTAMP:20260425T135712
CREATED:20241022T135523Z
LAST-MODIFIED:20241022T135523Z
UID:96409-1758844800-1758931199@afaceri-poligrafice.ro
SUMMARY:AFP 310 – Data publicarii revistei
DESCRIPTION:
URL:https://afaceri-poligrafice.ro/eveniment/afp-310-data-publicarii-revistei/
CATEGORIES:Calendarul Editorial
END:VEVENT
BEGIN:VEVENT
DTSTART;VALUE=DATE:20251020
DTEND;VALUE=DATE:20251021
DTSTAMP:20260425T135712
CREATED:20241022T135523Z
LAST-MODIFIED:20241022T135523Z
UID:96383-1760918400-1761004799@afaceri-poligrafice.ro
SUMMARY:AFP 311 – Data limita de primire material publicitar destinat editiei tiparite
DESCRIPTION:
URL:https://afaceri-poligrafice.ro/eveniment/afp-311-data-limita-de-primire-material-publicitar-destinat-editiei-tiparite/
CATEGORIES:Calendarul Editorial
END:VEVENT
BEGIN:VEVENT
DTSTART;VALUE=DATE:20251029
DTEND;VALUE=DATE:20251030
DTSTAMP:20260425T135712
CREATED:20241022T135523Z
LAST-MODIFIED:20241022T135523Z
UID:96412-1761696000-1761782399@afaceri-poligrafice.ro
SUMMARY:AFP 311 – Data publicarii revistei
DESCRIPTION:
URL:https://afaceri-poligrafice.ro/eveniment/afp-311-data-publicarii-revistei/
CATEGORIES:Calendarul Editorial
END:VEVENT
BEGIN:VEVENT
DTSTART;VALUE=DATE:20251119
DTEND;VALUE=DATE:20251120
DTSTAMP:20260425T135712
CREATED:20241022T135523Z
LAST-MODIFIED:20260126T113913Z
UID:96386-1763510400-1763596799@afaceri-poligrafice.ro
SUMMARY:AFP 312 – Data limita de primire material publicitar destinat editiei digitale
DESCRIPTION:
URL:https://afaceri-poligrafice.ro/eveniment/afp-312-data-limita-de-primire-material-publicitar-destinat-editiei-digitale/
CATEGORIES:Calendarul Editorial
END:VEVENT
BEGIN:VEVENT
DTSTART;VALUE=DATE:20251128
DTEND;VALUE=DATE:20251129
DTSTAMP:20260425T135712
CREATED:20241022T135523Z
LAST-MODIFIED:20241022T135523Z
UID:96413-1764288000-1764374399@afaceri-poligrafice.ro
SUMMARY:AFP 312 – Data publicarii revistei
DESCRIPTION:
URL:https://afaceri-poligrafice.ro/eveniment/afp-312-data-publicarii-revistei/
CATEGORIES:Calendarul Editorial
END:VEVENT
BEGIN:VEVENT
DTSTART;VALUE=DATE:20260204
DTEND;VALUE=DATE:20260205
DTSTAMP:20260425T135712
CREATED:20260325T093414Z
LAST-MODIFIED:20260325T093414Z
UID:159358-1770163200-1770249599@afaceri-poligrafice.ro
SUMMARY:AFP 313 – Data limita de primire material publicitar destinat editiei digitale
DESCRIPTION:
URL:https://afaceri-poligrafice.ro/eveniment/afp-313-data-limita-de-primire-material-publicitar-destinat-editiei-digitale/
CATEGORIES:Calendarul Editorial
END:VEVENT
BEGIN:VEVENT
DTSTART;VALUE=DATE:20260216
DTEND;VALUE=DATE:20260217
DTSTAMP:20260425T135712
CREATED:20260325T093536Z
LAST-MODIFIED:20260325T093536Z
UID:159360-1771200000-1771286399@afaceri-poligrafice.ro
SUMMARY:AFP 313 – Data publicarii revistei
DESCRIPTION:
URL:https://afaceri-poligrafice.ro/eveniment/afp-313-data-publicarii-revistei/
CATEGORIES:Calendarul Editorial
END:VEVENT
BEGIN:VEVENT
DTSTART;VALUE=DATE:20260312
DTEND;VALUE=DATE:20260313
DTSTAMP:20260425T135712
CREATED:20260325T093628Z
LAST-MODIFIED:20260325T093628Z
UID:159362-1773273600-1773359999@afaceri-poligrafice.ro
SUMMARY:AFP 314 – Data limita de primire material publicitar destinat editiei digitale
DESCRIPTION:
URL:https://afaceri-poligrafice.ro/eveniment/afp-314-data-limita-de-primire-material-publicitar-destinat-editiei-digitale/
CATEGORIES:Calendarul Editorial
END:VEVENT
BEGIN:VEVENT
DTSTART;VALUE=DATE:20260323
DTEND;VALUE=DATE:20260324
DTSTAMP:20260425T135712
CREATED:20260325T093707Z
LAST-MODIFIED:20260325T093707Z
UID:159364-1774224000-1774310399@afaceri-poligrafice.ro
SUMMARY:AFP 314 – Data publicarii revistei
DESCRIPTION:
URL:https://afaceri-poligrafice.ro/eveniment/afp-314-data-publicarii-revistei/
CATEGORIES:Calendarul Editorial
END:VEVENT
END:VCALENDAR