BEGIN:VCALENDAR
VERSION:2.0
PRODID:-//Afaceri Poligrafice - ECPv6.15.13//NONSGML v1.0//EN
CALSCALE:GREGORIAN
METHOD:PUBLISH
X-ORIGINAL-URL:https://afaceri-poligrafice.ro
X-WR-CALDESC:Evenimente pentru Afaceri Poligrafice
REFRESH-INTERVAL;VALUE=DURATION:PT1H
X-Robots-Tag:noindex
X-PUBLISHED-TTL:PT1H
BEGIN:VTIMEZONE
TZID:Europe/Bucharest
BEGIN:DAYLIGHT
TZOFFSETFROM:+0200
TZOFFSETTO:+0300
TZNAME:EEST
DTSTART:20240331T010000
END:DAYLIGHT
BEGIN:STANDARD
TZOFFSETFROM:+0300
TZOFFSETTO:+0200
TZNAME:EET
DTSTART:20241027T010000
END:STANDARD
BEGIN:DAYLIGHT
TZOFFSETFROM:+0200
TZOFFSETTO:+0300
TZNAME:EEST
DTSTART:20250330T010000
END:DAYLIGHT
BEGIN:STANDARD
TZOFFSETFROM:+0300
TZOFFSETTO:+0200
TZNAME:EET
DTSTART:20251026T010000
END:STANDARD
BEGIN:DAYLIGHT
TZOFFSETFROM:+0200
TZOFFSETTO:+0300
TZNAME:EEST
DTSTART:20260329T010000
END:DAYLIGHT
BEGIN:STANDARD
TZOFFSETFROM:+0300
TZOFFSETTO:+0200
TZNAME:EET
DTSTART:20261025T010000
END:STANDARD
BEGIN:DAYLIGHT
TZOFFSETFROM:+0200
TZOFFSETTO:+0300
TZNAME:EEST
DTSTART:20270328T010000
END:DAYLIGHT
BEGIN:STANDARD
TZOFFSETFROM:+0300
TZOFFSETTO:+0200
TZNAME:EET
DTSTART:20271031T010000
END:STANDARD
END:VTIMEZONE
BEGIN:VEVENT
DTSTART;VALUE=DATE:20250820
DTEND;VALUE=DATE:20250821
DTSTAMP:20260424T175958
CREATED:20241022T135523Z
LAST-MODIFIED:20241022T135523Z
UID:96377-1755648000-1755734399@afaceri-poligrafice.ro
SUMMARY:AFP 309 – Data limita de primire material publicitar destinat editiei tiparite
DESCRIPTION:
URL:https://afaceri-poligrafice.ro/eveniment/afp-309-data-limita-de-primire-material-publicitar-destinat-editiei-tiparite/
CATEGORIES:Calendarul Editorial
END:VEVENT
BEGIN:VEVENT
DTSTART;VALUE=DATE:20250829
DTEND;VALUE=DATE:20250830
DTSTAMP:20260424T175958
CREATED:20241022T135523Z
LAST-MODIFIED:20241022T135523Z
UID:96406-1756425600-1756511999@afaceri-poligrafice.ro
SUMMARY:AFP 309 – Data publicarii revistei
DESCRIPTION:
URL:https://afaceri-poligrafice.ro/eveniment/afp-309-data-publicarii-revistei/
CATEGORIES:Calendarul Editorial
END:VEVENT
BEGIN:VEVENT
DTSTART;VALUE=DATE:20250917
DTEND;VALUE=DATE:20250918
DTSTAMP:20260424T175958
CREATED:20241022T135523Z
LAST-MODIFIED:20241022T135523Z
UID:96380-1758067200-1758153599@afaceri-poligrafice.ro
SUMMARY:AFP 310 – Data limita de primire material publicitar destinat editiei tiparite
DESCRIPTION:
URL:https://afaceri-poligrafice.ro/eveniment/afp-310-data-limita-de-primire-material-publicitar-destinat-editiei-tiparite/
CATEGORIES:Calendarul Editorial
END:VEVENT
BEGIN:VEVENT
DTSTART;VALUE=DATE:20250926
DTEND;VALUE=DATE:20250927
DTSTAMP:20260424T175958
CREATED:20241022T135523Z
LAST-MODIFIED:20241022T135523Z
UID:96409-1758844800-1758931199@afaceri-poligrafice.ro
SUMMARY:AFP 310 – Data publicarii revistei
DESCRIPTION:
URL:https://afaceri-poligrafice.ro/eveniment/afp-310-data-publicarii-revistei/
CATEGORIES:Calendarul Editorial
END:VEVENT
BEGIN:VEVENT
DTSTART;VALUE=DATE:20251020
DTEND;VALUE=DATE:20251021
DTSTAMP:20260424T175958
CREATED:20241022T135523Z
LAST-MODIFIED:20241022T135523Z
UID:96383-1760918400-1761004799@afaceri-poligrafice.ro
SUMMARY:AFP 311 – Data limita de primire material publicitar destinat editiei tiparite
DESCRIPTION:
URL:https://afaceri-poligrafice.ro/eveniment/afp-311-data-limita-de-primire-material-publicitar-destinat-editiei-tiparite/
CATEGORIES:Calendarul Editorial
END:VEVENT
BEGIN:VEVENT
DTSTART;VALUE=DATE:20251029
DTEND;VALUE=DATE:20251030
DTSTAMP:20260424T175958
CREATED:20241022T135523Z
LAST-MODIFIED:20241022T135523Z
UID:96412-1761696000-1761782399@afaceri-poligrafice.ro
SUMMARY:AFP 311 – Data publicarii revistei
DESCRIPTION:
URL:https://afaceri-poligrafice.ro/eveniment/afp-311-data-publicarii-revistei/
CATEGORIES:Calendarul Editorial
END:VEVENT
BEGIN:VEVENT
DTSTART;VALUE=DATE:20251119
DTEND;VALUE=DATE:20251120
DTSTAMP:20260424T175958
CREATED:20241022T135523Z
LAST-MODIFIED:20260126T113913Z
UID:96386-1763510400-1763596799@afaceri-poligrafice.ro
SUMMARY:AFP 312 – Data limita de primire material publicitar destinat editiei digitale
DESCRIPTION:
URL:https://afaceri-poligrafice.ro/eveniment/afp-312-data-limita-de-primire-material-publicitar-destinat-editiei-digitale/
CATEGORIES:Calendarul Editorial
END:VEVENT
BEGIN:VEVENT
DTSTART;VALUE=DATE:20251128
DTEND;VALUE=DATE:20251129
DTSTAMP:20260424T175958
CREATED:20241022T135523Z
LAST-MODIFIED:20241022T135523Z
UID:96413-1764288000-1764374399@afaceri-poligrafice.ro
SUMMARY:AFP 312 – Data publicarii revistei
DESCRIPTION:
URL:https://afaceri-poligrafice.ro/eveniment/afp-312-data-publicarii-revistei/
CATEGORIES:Calendarul Editorial
END:VEVENT
BEGIN:VEVENT
DTSTART;VALUE=DATE:20260204
DTEND;VALUE=DATE:20260205
DTSTAMP:20260424T175958
CREATED:20260325T093414Z
LAST-MODIFIED:20260325T093414Z
UID:159358-1770163200-1770249599@afaceri-poligrafice.ro
SUMMARY:AFP 313 – Data limita de primire material publicitar destinat editiei digitale
DESCRIPTION:
URL:https://afaceri-poligrafice.ro/eveniment/afp-313-data-limita-de-primire-material-publicitar-destinat-editiei-digitale/
CATEGORIES:Calendarul Editorial
END:VEVENT
BEGIN:VEVENT
DTSTART;VALUE=DATE:20260216
DTEND;VALUE=DATE:20260217
DTSTAMP:20260424T175958
CREATED:20260325T093536Z
LAST-MODIFIED:20260325T093536Z
UID:159360-1771200000-1771286399@afaceri-poligrafice.ro
SUMMARY:AFP 313 – Data publicarii revistei
DESCRIPTION:
URL:https://afaceri-poligrafice.ro/eveniment/afp-313-data-publicarii-revistei/
CATEGORIES:Calendarul Editorial
END:VEVENT
BEGIN:VEVENT
DTSTART;VALUE=DATE:20260312
DTEND;VALUE=DATE:20260313
DTSTAMP:20260424T175958
CREATED:20260325T093628Z
LAST-MODIFIED:20260325T093628Z
UID:159362-1773273600-1773359999@afaceri-poligrafice.ro
SUMMARY:AFP 314 – Data limita de primire material publicitar destinat editiei digitale
DESCRIPTION:
URL:https://afaceri-poligrafice.ro/eveniment/afp-314-data-limita-de-primire-material-publicitar-destinat-editiei-digitale/
CATEGORIES:Calendarul Editorial
END:VEVENT
BEGIN:VEVENT
DTSTART;VALUE=DATE:20260323
DTEND;VALUE=DATE:20260324
DTSTAMP:20260424T175958
CREATED:20260325T093707Z
LAST-MODIFIED:20260325T093707Z
UID:159364-1774224000-1774310399@afaceri-poligrafice.ro
SUMMARY:AFP 314 – Data publicarii revistei
DESCRIPTION:
URL:https://afaceri-poligrafice.ro/eveniment/afp-314-data-publicarii-revistei/
CATEGORIES:Calendarul Editorial
END:VEVENT
BEGIN:VEVENT
DTSTART;VALUE=DATE:20260416
DTEND;VALUE=DATE:20260417
DTSTAMP:20260424T175958
CREATED:20260325T093752Z
LAST-MODIFIED:20260325T093752Z
UID:159366-1776297600-1776383999@afaceri-poligrafice.ro
SUMMARY:AFP 315 – Data limita de primire material publicitar destinat editiei digitale
DESCRIPTION:
URL:https://afaceri-poligrafice.ro/eveniment/afp-315-data-limita-de-primire-material-publicitar-destinat-editiei-digitale/
CATEGORIES:Calendarul Editorial
END:VEVENT
BEGIN:VEVENT
DTSTART;VALUE=DATE:20260427
DTEND;VALUE=DATE:20260428
DTSTAMP:20260424T175958
CREATED:20260325T093840Z
LAST-MODIFIED:20260325T093840Z
UID:159368-1777248000-1777334399@afaceri-poligrafice.ro
SUMMARY:AFP 315 – Data publicarii revistei
DESCRIPTION:
URL:https://afaceri-poligrafice.ro/eveniment/afp-315-data-publicarii-revistei/
CATEGORIES:Calendarul Editorial
END:VEVENT
BEGIN:VEVENT
DTSTART;VALUE=DATE:20260520
DTEND;VALUE=DATE:20260521
DTSTAMP:20260424T175958
CREATED:20260325T093937Z
LAST-MODIFIED:20260325T093937Z
UID:159371-1779235200-1779321599@afaceri-poligrafice.ro
SUMMARY:AFP 316 – Data limita de primire material publicitar destinat editiei digitale
DESCRIPTION:
URL:https://afaceri-poligrafice.ro/eveniment/afp-316-data-limita-de-primire-material-publicitar-destinat-editiei-digitale/
CATEGORIES:Calendarul Editorial
END:VEVENT
BEGIN:VEVENT
DTSTART;VALUE=DATE:20260529
DTEND;VALUE=DATE:20260530
DTSTAMP:20260424T175958
CREATED:20260325T094012Z
LAST-MODIFIED:20260325T094012Z
UID:159373-1780012800-1780099199@afaceri-poligrafice.ro
SUMMARY:AFP 316 – Data publicarii revistei
DESCRIPTION:
URL:https://afaceri-poligrafice.ro/eveniment/afp-316-data-publicarii-revistei/
CATEGORIES:Calendarul Editorial
END:VEVENT
BEGIN:VEVENT
DTSTART;VALUE=DATE:20260820
DTEND;VALUE=DATE:20260821
DTSTAMP:20260424T175958
CREATED:20260325T094114Z
LAST-MODIFIED:20260325T094114Z
UID:159375-1787184000-1787270399@afaceri-poligrafice.ro
SUMMARY:AFP 317 – Data limita de primire material publicitar destinat editiei digitale
DESCRIPTION:
URL:https://afaceri-poligrafice.ro/eveniment/afp-317-data-limita-de-primire-material-publicitar-destinat-editiei-digitale/
CATEGORIES:Calendarul Editorial
END:VEVENT
BEGIN:VEVENT
DTSTART;VALUE=DATE:20260831
DTEND;VALUE=DATE:20260901
DTSTAMP:20260424T175958
CREATED:20260325T094201Z
LAST-MODIFIED:20260325T094201Z
UID:159377-1788134400-1788220799@afaceri-poligrafice.ro
SUMMARY:AFP 317 – Data publicarii revistei
DESCRIPTION:
URL:https://afaceri-poligrafice.ro/eveniment/afp-317-data-publicarii-revistei/
CATEGORIES:Calendarul Editorial
END:VEVENT
BEGIN:VEVENT
DTSTART;VALUE=DATE:20260917
DTEND;VALUE=DATE:20260918
DTSTAMP:20260424T175958
CREATED:20260325T094248Z
LAST-MODIFIED:20260325T094303Z
UID:159379-1789603200-1789689599@afaceri-poligrafice.ro
SUMMARY:AFP 318 – Data limita de primire material publicitar destinat editiei digitale
DESCRIPTION:
URL:https://afaceri-poligrafice.ro/eveniment/afp-318-data-limita-de-primire-material-publicitar-destinat-editiei-digitale/
CATEGORIES:Calendarul Editorial
END:VEVENT
BEGIN:VEVENT
DTSTART;VALUE=DATE:20260928
DTEND;VALUE=DATE:20260929
DTSTAMP:20260424T175958
CREATED:20260325T094340Z
LAST-MODIFIED:20260325T094340Z
UID:159381-1790553600-1790639999@afaceri-poligrafice.ro
SUMMARY:AFP 318 – Data publicarii revistei
DESCRIPTION:
URL:https://afaceri-poligrafice.ro/eveniment/afp-318-data-publicarii-revistei/
CATEGORIES:Calendarul Editorial
END:VEVENT
BEGIN:VEVENT
DTSTART;VALUE=DATE:20261020
DTEND;VALUE=DATE:20261021
DTSTAMP:20260424T175958
CREATED:20260325T094423Z
LAST-MODIFIED:20260325T094423Z
UID:159383-1792454400-1792540799@afaceri-poligrafice.ro
SUMMARY:AFP 319 – Data limita de primire material publicitar destinat editiei digitale
DESCRIPTION:
URL:https://afaceri-poligrafice.ro/eveniment/afp-319-data-limita-de-primire-material-publicitar-destinat-editiei-digitale/
CATEGORIES:Calendarul Editorial
END:VEVENT
BEGIN:VEVENT
DTSTART;VALUE=DATE:20261029
DTEND;VALUE=DATE:20261030
DTSTAMP:20260424T175958
CREATED:20260325T094459Z
LAST-MODIFIED:20260325T094459Z
UID:159385-1793232000-1793318399@afaceri-poligrafice.ro
SUMMARY:AFP 319 – Data publicarii revistei
DESCRIPTION:
URL:https://afaceri-poligrafice.ro/eveniment/afp-319-data-publicarii-revistei/
CATEGORIES:Calendarul Editorial
END:VEVENT
BEGIN:VEVENT
DTSTART;VALUE=DATE:20261118
DTEND;VALUE=DATE:20261119
DTSTAMP:20260424T175958
CREATED:20260325T094536Z
LAST-MODIFIED:20260325T094536Z
UID:159387-1794960000-1795046399@afaceri-poligrafice.ro
SUMMARY:AFP 320 – Data limita de primire material publicitar destinat editiei digitale
DESCRIPTION:
URL:https://afaceri-poligrafice.ro/eveniment/afp-320-data-limita-de-primire-material-publicitar-destinat-editiei-digitale/
CATEGORIES:Calendarul Editorial
END:VEVENT
BEGIN:VEVENT
DTSTART;VALUE=DATE:20261127
DTEND;VALUE=DATE:20261128
DTSTAMP:20260424T175958
CREATED:20260325T094614Z
LAST-MODIFIED:20260325T094614Z
UID:159389-1795737600-1795823999@afaceri-poligrafice.ro
SUMMARY:AFP 320 – Data publicarii revistei
DESCRIPTION:
URL:https://afaceri-poligrafice.ro/eveniment/afp-320-data-publicarii-revistei/
CATEGORIES:Calendarul Editorial
END:VEVENT
END:VCALENDAR